BEGIN:VCALENDAR
VERSION:2.0
PRODID:https://github.com/derhansen/sf_event_mgt
METHOD:PUBLISH
BEGIN:VEVENT
UID:56-1165@www.awhamburg.de
CLASS: PUBLIC
SUMMARY:AUSGEBUCHT: Energiewende und öffentliche Daseinsvorsorge – 10 Jahre
  nach dem Volksentscheid „Unser Hamburg – Unser Netz"
DESCRIPTION:Debatten über die Formen der Energiewende als Teil öffentlicher
  Daseinsvorsorge prägen derzeit die gesellschaftliche Auseinandersetzung. D
 amit wird die Reichweite nötiger Veränderungen sichtbar, die für eine nachh
 altige Entwicklung als Reaktion auf die Klimakrise notwendig sind. Die Vera
 nstaltung nimmt den Volksentscheid „Unser Hamburg – Unser Netz“ aus dem Jah
 r 2013 zum Anlass, um über die Aufgaben einer gemeinwohlorientierten Dasein
 svorsorge zu diskutieren. Vor 10 Jahren ging es um eine gesellschaftliche R
 ichtungsentscheidung. Wie ist Hamburg mit seinen mittlerweile kommunalen En
 ergieunternehmen inzwischen aufgestellt? Welche Möglichkeiten bietet die öf
 fentliche Daseinsvorsorge für den Umgang mit Energie- und Klimakrise? Welch
 e Rolle können Volksentscheide oder andere Beteiligungsformen dabei spielen
 ?\n\nImpulsreferate von:\n\n 	Dr. Michael Beckereit, ehemaliger Geschäftsfü
 hrer von Hamburg Wärme 	Prof. Dr. Anita Engels, Professorin für Soziologie,
  Globalisierung, Umwelt und Gesellschaft, Universität Hamburg, Mitglied der
  Akademie der Wissenschaften in Hamburg \n\nAuf dem Podium diskutieren:\n\n
  	Manfred Braasch, ehemalige Vertrauensperson Volksentscheid „Unser Hamburg
  – Unser Netz“ 	Jens Kerstan, Senator der Behörde für Umwelt, Klima, Energi
 e und Agrarwirtschaft der Freien und Hansestadt Hamburg 	Prof. Dr. Jürgen O
 ßenbrügge, Professor i. R. für Wirtschaftsgeographie, Universität Hamburg, 
 Mitglied der Akademie der Wissenschaften in Hamburg 	Annika Rittmann, Klima
 aktivistin Fridays for Future \n\nModeration:\n\nDr. Jens Meyer-Wellmann, C
 hefkorrespondent, Hamburger Abendblatt\n\nMontag, 18. September 2023 um 18:
 30 Uhr in der Patriotischen Gesellschaft Hamburg, Trostbrücke 4, 20457 Hamb
 urg\n\n\n\nDie Veranstaltunf ist leider ausgebucht! Es ist keine Anmeldung 
 mehr möglich.
DTSTAMP:20230918T082331Z
DTSTART:20230918T163000Z
DTEND:20230918T183000Z
END:VEVENT
END:VCALENDAR
